BEGIN:VCALENDAR
VERSION:2.0
PRODID:-//FECPC - Federació Esportiva Catalana de Persones amb Lesió Cerebral - ECPv6.15.20//NONSGML v1.0//EN
CALSCALE:GREGORIAN
METHOD:PUBLISH
X-WR-CALNAME:FECPC - Federació Esportiva Catalana de Persones amb Lesió Cerebral
X-ORIGINAL-URL:https://fecpc.cat
X-WR-CALDESC:Esdeveniments per FECPC - Federació Esportiva Catalana de Persones amb Lesió Cerebral
REFRESH-INTERVAL;VALUE=DURATION:PT1H
X-Robots-Tag:noindex
X-PUBLISHED-TTL:PT1H
BEGIN:VTIMEZONE
TZID:UTC
BEGIN:STANDARD
TZOFFSETFROM:+0000
TZOFFSETTO:+0000
TZNAME:UTC
DTSTART:20250101T000000
END:STANDARD
END:VTIMEZONE
BEGIN:VEVENT
DTSTART;VALUE=DATE:20260425
DTEND;VALUE=DATE:20260426
DTSTAMP:20260425T012457
CREATED:20260408T121326Z
LAST-MODIFIED:20260413T112654Z
UID:3997-1777075200-1777161599@fecpc.cat
SUMMARY:Boccia - 8ª Tecnificació de Joves
DESCRIPTION:
URL:https://fecpc.cat/calendari/boccia-8a-tecnificacio-de-joves/
LOCATION:CAR Centre d’Alt Rendiment\, Avda. Alcalde Barnils\, 3-5\, Sant Cugat del Vallès\, 08174\, Espanya
CATEGORIES:boccia
ATTACH;FMTTYPE=image/png:https://fecpc.cat/wp-content/uploads/2024/12/3.png
ORGANIZER;CN="FECPC":MAILTO:fecpc@fecpc.cat
END:VEVENT
BEGIN:VEVENT
DTSTART;TZID=UTC:20260425T100000
DTEND;TZID=UTC:20260425T140000
DTSTAMP:20260425T012457
CREATED:20260407T140026Z
LAST-MODIFIED:20260420T115835Z
UID:3973-1777111200-1777125600@fecpc.cat
SUMMARY:Slalom - Campionat Catalunya Infantil\, Juvenil i Absolut
DESCRIPTION:Llistat de Sortida —> Ct. Catalunya_Llistat Prova cronometrada_Slalom 2025-26
URL:https://fecpc.cat/calendari/slalom-campionat-catalunya-infantil-juvenil-i-absolut/
LOCATION:Pavelló Municipal del Congost\, Carrer de Maria Palau\, 19-21\, Granollers\, Barcelona\, 08403\, Spain
CATEGORIES:slalom
ATTACH;FMTTYPE=image/png:https://fecpc.cat/wp-content/uploads/2026/04/ct.-slalom-abril-scaled.png
ORGANIZER;CN="FECPC":MAILTO:fecpc@fecpc.cat
END:VEVENT
END:VCALENDAR