BEGIN:VCALENDAR
VERSION:2.0
PRODID:-//FECPC - Federació Esportiva Catalana de Persones amb Lesió Cerebral - ECPv6.15.20//NONSGML v1.0//EN
CALSCALE:GREGORIAN
METHOD:PUBLISH
X-ORIGINAL-URL:https://fecpc.cat
X-WR-CALDESC:Esdeveniments per FECPC - Federació Esportiva Catalana de Persones amb Lesió Cerebral
REFRESH-INTERVAL;VALUE=DURATION:PT1H
X-Robots-Tag:noindex
X-PUBLISHED-TTL:PT1H
BEGIN:VTIMEZONE
TZID:UTC
BEGIN:STANDARD
TZOFFSETFROM:+0000
TZOFFSETTO:+0000
TZNAME:UTC
DTSTART:20240101T000000
END:STANDARD
END:VTIMEZONE
BEGIN:VEVENT
DTSTART;TZID=UTC:20250202T093000
DTEND;TZID=UTC:20250202T120000
DTSTAMP:20260421T155903
CREATED:20250115T091818Z
LAST-MODIFIED:20250128T104937Z
UID:2316-1738488600-1738497600@fecpc.cat
SUMMARY:Natació - 2ª Jornada Lliga Catalana
DESCRIPTION:
URL:https://fecpc.cat/calendari/natacio-2a-jornada-lliga-catalana/
LOCATION:CN Terrassa\, Av. de l'Abat Marcet\, s/n\, 08225 Terrassa\, Barcelona\, Terrassa\, 08225\, Espanya
CATEGORIES:natació
ATTACH;FMTTYPE=image/png:https://fecpc.cat/wp-content/uploads/2025/01/j2-natacio-2025.png
END:VEVENT
BEGIN:VEVENT
DTSTART;VALUE=DATE:20250215
DTEND;VALUE=DATE:20250217
DTSTAMP:20260421T155903
CREATED:20241219T125611Z
LAST-MODIFIED:20250205T143008Z
UID:2211-1739577600-1739750399@fecpc.cat
SUMMARY:Natació - 10è Trofeu Internacional Natació Inclusiva
DESCRIPTION:Fes-te voluntari escanejant el Codi QR de la imatge o clicant al següent enllaç
URL:https://fecpc.cat/calendari/natacio-10e-trofeu-internacional-ciutat-de-barcelona/
LOCATION:CN Barcelona\, Pg. de Joan de Borbó\, 93\, Barcelona\, 08039\, Espanya
CATEGORIES:natació
ATTACH;FMTTYPE=image/png:https://fecpc.cat/wp-content/uploads/2024/12/natacio-axa-2025.png
ORGANIZER;CN="FECPC":MAILTO:fecpc@fecpc.cat
END:VEVENT
BEGIN:VEVENT
DTSTART;VALUE=DATE:20250221
DTEND;VALUE=DATE:20250224
DTSTAMP:20260421T155903
CREATED:20250116T115823Z
LAST-MODIFIED:20250219T104616Z
UID:2337-1740096000-1740355199@fecpc.cat
SUMMARY:Natació - Campionat Espanya Escolar
DESCRIPTION:Convocatòria: 2. Convocatòria Ct. Espanya Natació Escolar CSD 2025 \nPer part de la FECPC competeixen Quynh Iglesias i Leo González. \nSeleccionador: Rubén Reguart. Tècnica: Adelaida Feced. \nStreaming i Resultats a la Web de la Competició. \n 
URL:https://fecpc.cat/calendari/natacio-campionat-espanya-escolar/
LOCATION:Valladolid\, Valladolid\, Valladolid\, 47001\, Spain
CATEGORIES:natació
ATTACH;FMTTYPE=image/jpeg:https://fecpc.cat/wp-content/uploads/2025/01/WhatsApp-Image-2025-02-19-at-11.16.21.jpeg
END:VEVENT
END:VCALENDAR