BEGIN:VCALENDAR
VERSION:2.0
PRODID:-//FECPC - Federació Esportiva Catalana de Persones amb Lesió Cerebral - ECPv6.15.20//NONSGML v1.0//EN
CALSCALE:GREGORIAN
METHOD:PUBLISH
X-ORIGINAL-URL:https://fecpc.cat
X-WR-CALDESC:Esdeveniments per FECPC - Federació Esportiva Catalana de Persones amb Lesió Cerebral
REFRESH-INTERVAL;VALUE=DURATION:PT1H
X-Robots-Tag:noindex
X-PUBLISHED-TTL:PT1H
BEGIN:VTIMEZONE
TZID:UTC
BEGIN:STANDARD
TZOFFSETFROM:+0000
TZOFFSETTO:+0000
TZNAME:UTC
DTSTART:20240101T000000
END:STANDARD
END:VTIMEZONE
BEGIN:VEVENT
DTSTART;TZID=UTC:20250301T163000
DTEND;TZID=UTC:20250301T203000
DTSTAMP:20260421T144030
CREATED:20241220T091521Z
LAST-MODIFIED:20250227T083917Z
UID:2217-1740846600-1740861000@fecpc.cat
SUMMARY:Natació - Campionat de Catalunya Open Hivern
DESCRIPTION:
URL:https://fecpc.cat/calendari/natacio-campionat-de-catalunya-open-hivern/
LOCATION:CN Terrassa\, Av. de l'Abat Marcet\, s/n\, 08225 Terrassa\, Barcelona\, Terrassa\, 08225\, Espanya
CATEGORIES:natació
ATTACH;FMTTYPE=image/png:https://fecpc.cat/wp-content/uploads/2024/12/ct-natacio-hivern-2025.png
END:VEVENT
BEGIN:VEVENT
DTSTART;VALUE=DATE:20250320
DTEND;VALUE=DATE:20250324
DTSTAMP:20260421T144030
CREATED:20241209T094707Z
LAST-MODIFIED:20250219T114801Z
UID:2108-1742428800-1742774399@fecpc.cat
SUMMARY:Natació - Para Swimming World Series Barcelona 2025
DESCRIPTION:Fes-te Voluntari! Clica aquí 
URL:https://fecpc.cat/calendari/natacio-para-swimming-world-series/
LOCATION:CN Barcelona\, Pg. de Joan de Borbó\, 93\, Barcelona\, 08039\, Espanya
CATEGORIES:natació
ATTACH;FMTTYPE=image/jpeg:https://fecpc.cat/wp-content/uploads/2024/11/IMG_6945.jpeg
ORGANIZER;CN="FECPC":MAILTO:fecpc@fecpc.cat
END:VEVENT
BEGIN:VEVENT
DTSTART;VALUE=DATE:20250329
DTEND;VALUE=DATE:20250331
DTSTAMP:20260421T144030
CREATED:20241220T101000Z
LAST-MODIFIED:20250328T120413Z
UID:2242-1743206400-1743379199@fecpc.cat
SUMMARY:Natació - Campionat Espanya Hivern Autonomies
DESCRIPTION:En directe al canal de YouTube de la FEDPC \nDissabte 29 a les 10h  \nDissabte 29 a les 16:30h \nDiumenge 30 a les 10h
URL:https://fecpc.cat/calendari/natacio-campionat-espanya-hivern-autonomies/
LOCATION:Oviedo\, Oviedo\, Astúrias\, 33044\, Spain
CATEGORIES:natació
ATTACH;FMTTYPE=image/png:https://fecpc.cat/wp-content/uploads/2024/12/convo-1.png
END:VEVENT
END:VCALENDAR