BEGIN:VCALENDAR
VERSION:2.0
PRODID:-//FECPC - Federació Esportiva Catalana de Persones amb Lesió Cerebral - ECPv6.15.20//NONSGML v1.0//EN
CALSCALE:GREGORIAN
METHOD:PUBLISH
X-ORIGINAL-URL:https://fecpc.cat
X-WR-CALDESC:Esdeveniments per FECPC - Federació Esportiva Catalana de Persones amb Lesió Cerebral
REFRESH-INTERVAL;VALUE=DURATION:PT1H
X-Robots-Tag:noindex
X-PUBLISHED-TTL:PT1H
BEGIN:VTIMEZONE
TZID:UTC
BEGIN:STANDARD
TZOFFSETFROM:+0000
TZOFFSETTO:+0000
TZNAME:UTC
DTSTART:20220101T000000
END:STANDARD
END:VTIMEZONE
BEGIN:VEVENT
DTSTART;TZID=UTC:20230129T100000
DTEND;TZID=UTC:20230129T143000
DTSTAMP:20260423T073752
CREATED:20221224T161408Z
LAST-MODIFIED:20230126T083219Z
UID:465-1674986400-1675002600@fecpc.cat
SUMMARY:Slalom: 2ª Jornada Puntuable
DESCRIPTION:
URL:https://fecpc.cat/calendari/slalom-2a-jornada-puntuable/
LOCATION:Pavello Andrey Xepkin\, Carrer Mataró\, 4\,\, Sant Feliu de Llobregat\, 08980\, Espanya
CATEGORIES:slalom
END:VEVENT
END:VCALENDAR