BEGIN:VCALENDAR
VERSION:2.0
PRODID:-//FECPC - Federació Esportiva Catalana de Persones amb Lesió Cerebral - ECPv6.15.20//NONSGML v1.0//EN
CALSCALE:GREGORIAN
METHOD:PUBLISH
X-ORIGINAL-URL:https://fecpc.cat
X-WR-CALDESC:Esdeveniments per FECPC - Federació Esportiva Catalana de Persones amb Lesió Cerebral
REFRESH-INTERVAL;VALUE=DURATION:PT1H
X-Robots-Tag:noindex
X-PUBLISHED-TTL:PT1H
BEGIN:VTIMEZONE
TZID:UTC
BEGIN:STANDARD
TZOFFSETFROM:+0000
TZOFFSETTO:+0000
TZNAME:UTC
DTSTART:20230101T000000
END:STANDARD
END:VTIMEZONE
BEGIN:VEVENT
DTSTART;VALUE=DATE:20240323
DTEND;VALUE=DATE:20240325
DTSTAMP:20260420T042439
CREATED:20240311T111542Z
LAST-MODIFIED:20240321T155502Z
UID:1707-1711152000-1711324799@fecpc.cat
SUMMARY:Natació - Ct. Espanya per Comunitats Autònomes
DESCRIPTION:Participació com a selecció catalana\, conjuntament amb la FCEDF. \nParticipen amb la FECPC: \nNedadors/es: \nDaniel Ferrer – CN Mataró\nMark Castro – CN Mataró\nJavier Cárcamo – CN Mataró\nAnna Saiz – CN Mataró\nPau González – CN Terrassa \nTècnics: \nRoger Cruañas –  CN Mataró \nJordi Bosch – CN Terrassa \nSeguiment dels resultats en directe: https://b-swim.com/Resultados/2024/2024CtoEspanaAutonomias_Palma
URL:https://fecpc.cat/calendari/natacio-ct-espanya-per-comunitats-autonomes/
LOCATION:Piscina Municipal Son Hugo\, Calle de la Concordia\, s/n Nord\, Palma de Mallorca\, 07004\, Espanya
CATEGORIES:natació
END:VEVENT
BEGIN:VEVENT
DTSTART;TZID=UTC:20240317T100000
DTEND;TZID=UTC:20240317T133000
DTSTAMP:20260420T042439
CREATED:20240311T110905Z
LAST-MODIFIED:20240313T102142Z
UID:1702-1710669600-1710682200@fecpc.cat
SUMMARY:Slalom - 4ª jornada i Ct. Catalunya equips
DESCRIPTION:Horari aproximat:\n10h – Fase de grup – Ct. de Catalunya d’eliminació per equips\n10’45h – Prova Cronometrada\n13h – 3r i 4rt i Final – Ct. de Catalunya d’eliminació per equips\n13’15h – Lliurament de medalles i trofeus
URL:https://fecpc.cat/calendari/slalom-4a-jornada-i-ct-catalunya-equips/
LOCATION:Pavello Can Bassa\, Carrer de Caterina Albert\, 15\, Granollers\, Barcelona\, 09402\, Espanya
CATEGORIES:slalom
ORGANIZER;CN="FECPC":MAILTO:fecpc@fecpc.cat
END:VEVENT
BEGIN:VEVENT
DTSTART;TZID=UTC:20240316T120000
DTEND;TZID=UTC:20240316T140000
DTSTAMP:20260420T042439
CREATED:20240313T113729Z
LAST-MODIFIED:20240313T113729Z
UID:1722-1710590400-1710597600@fecpc.cat
SUMMARY:Futbol - 3ª Tecnificació Masculí - CAR
DESCRIPTION:
URL:https://fecpc.cat/calendari/futbol-3a-tecnificacio-masculi-car/
LOCATION:CAR Centre d’Alt Rendiment\, Avda. Alcalde Barnils\, 3-5\, Sant Cugat del Vallès\, 08174\, Espanya
CATEGORIES:futbol
ORGANIZER;CN="FECPC":MAILTO:fecpc@fecpc.cat
END:VEVENT
BEGIN:VEVENT
DTSTART;TZID=UTC:20240316T103000
DTEND;TZID=UTC:20240316T123000
DTSTAMP:20260420T042439
CREATED:20240313T113609Z
LAST-MODIFIED:20240313T113609Z
UID:1720-1710585000-1710592200@fecpc.cat
SUMMARY:Futbol - 5ª Tecnificació Femení - CAR
DESCRIPTION:
URL:https://fecpc.cat/calendari/futbol-5a-tecnificacio-femeni-car/
LOCATION:CAR Centre d’Alt Rendiment\, Avda. Alcalde Barnils\, 3-5\, Sant Cugat del Vallès\, 08174\, Espanya
CATEGORIES:futbol
ORGANIZER;CN="FECPC":MAILTO:fecpc@fecpc.cat
END:VEVENT
BEGIN:VEVENT
DTSTART;TZID=UTC:20240316T100000
DTEND;TZID=UTC:20240316T140000
DTSTAMP:20260420T042439
CREATED:20240125T150846Z
LAST-MODIFIED:20240313T102010Z
UID:1585-1710583200-1710597600@fecpc.cat
SUMMARY:Boccia - 6ª Jornada Lliga Catalana - El Prat de Llobregat
DESCRIPTION:
URL:https://fecpc.cat/calendari/boccia-6a-jornada-lliga-catalana-el-prat-de-llobregat/
LOCATION:CEM Julio Méndez\, C/ Riu Guadalquivir\, 1-13\, El Prat de Llobregat\, Barcelona\, 08820\, Espanya
CATEGORIES:boccia
END:VEVENT
BEGIN:VEVENT
DTSTART;TZID=UTC:20240309T160000
DTEND;TZID=UTC:20240309T193000
DTSTAMP:20260420T042439
CREATED:20240301T130122Z
LAST-MODIFIED:20240313T102446Z
UID:1669-1710000000-1710012600@fecpc.cat
SUMMARY:Futbol - ANUL·LADA - 4ª Jornada Lliga Catalana Absoluta - Gavà
DESCRIPTION:
URL:https://fecpc.cat/calendari/futbol-4a-jornada-lliga-catalana-absoluta-gava/
LOCATION:Poliesportiu Marcel·lí Moragas (Pista interior)\, Joan I\, 5\, Gavà\, Barcelona\, 08850\, Espanya
CATEGORIES:futbol
ORGANIZER;CN="FECPC":MAILTO:fecpc@fecpc.cat
END:VEVENT
BEGIN:VEVENT
DTSTART;TZID=UTC:20240309T100000
DTEND;TZID=UTC:20240309T140000
DTSTAMP:20260420T042439
CREATED:20231018T111104Z
LAST-MODIFIED:20240305T093646Z
UID:1387-1709978400-1709992800@fecpc.cat
SUMMARY:5ª Jornada Boccia - La Pobla
DESCRIPTION:
URL:https://fecpc.cat/calendari/6a-jornada-boccia-la-pobla/
LOCATION:Pavello Municipal La Pobla Mafumet\, Carrer Bassal\, 845\,\, La Pobla Mafumet\, Tarragona\, 43140\, Espanya
CATEGORIES:boccia
ORGANIZER;CN="FECPC":MAILTO:fecpc@fecpc.cat
END:VEVENT
BEGIN:VEVENT
DTSTART;VALUE=DATE:20240309
DTEND;VALUE=DATE:20240311
DTSTAMP:20260420T042439
CREATED:20240301T090137Z
LAST-MODIFIED:20240306T165013Z
UID:1666-1709942400-1710115199@fecpc.cat
SUMMARY:Atletisme - Ct. Espanya Liberty de Promeses Paralímpiques 2024
DESCRIPTION:Participa la selecció catalana següent: \nAtletes: \nKidist Casals – Fent Esport Vilafranca \nLlorenç Anson – Fent Esport Vilafranca \nEloi Fengbin Fortuny – Fent Esport Vilafranca \nTècniques: Adelaida Feced i Foix Diaz
URL:https://fecpc.cat/calendari/atletisme-ct-espanya-liberty-de-promeses-paralimpiques-2024/
LOCATION:PIsta Atletisme Gania\, Avinguda dels Esports\, 9\, Gandia\, 46701\, Espanya
CATEGORIES:atletisme
END:VEVENT
BEGIN:VEVENT
DTSTART;VALUE=DATE:20240309
DTEND;VALUE=DATE:20240310
DTSTAMP:20260420T042439
CREATED:20240110T164749Z
LAST-MODIFIED:20240110T164749Z
UID:1501-1709942400-1710028799@fecpc.cat
SUMMARY:Waterpolo - 4ª Jornada
DESCRIPTION:Partit CN Barcelona vs CN Sabadell \nCalendari partits i resultats Lliga Waterpolo 2023-24
URL:https://fecpc.cat/calendari/waterpolo-4a-jornada/
LOCATION:CN Barcelona\, Pg. de Joan de Borbó\, 93\, Barcelona\, 08039\, Espanya
CATEGORIES:waterpolo
END:VEVENT
BEGIN:VEVENT
DTSTART;VALUE=DATE:20240308
DTEND;VALUE=DATE:20240311
DTSTAMP:20260420T042439
CREATED:20240306T134421Z
LAST-MODIFIED:20240306T134421Z
UID:1694-1709856000-1710115199@fecpc.cat
SUMMARY:Natació - Ct. Espanya categoria Escolar SSAA - CSD - Ct. Espanya de Natació inclusiva
DESCRIPTION:Participació com a selecció catalana\, conjuntament amb la FCEDF i la FCN. \nParticipen amb la FECPC: \nNedadores: Irache Torres i Quyhn Iglesias – CN Terrassa \nTècnic: Jordi Bosch – CN Terrassa \nMés info: https://rfen.es/es/section/web-natacion-csd-2024 \nStreaming: Divendres    Dissabte    Diumenge
URL:https://fecpc.cat/calendari/natacio-ct-espanya-categoria-escolar-ssaa-csd-ct-espanya-de-natacio-inclusiva/
LOCATION:Piscina Municipal Villa de los Barrios\, Av. Maestro Quico\, s/n\, Los Barrios - Cádiz\, 11370\, Espanya
CATEGORIES:natació
END:VEVENT
BEGIN:VEVENT
DTSTART;TZID=UTC:20240303T100000
DTEND;TZID=UTC:20240303T130000
DTSTAMP:20260420T042439
CREATED:20240206T165411Z
LAST-MODIFIED:20240301T085648Z
UID:1608-1709460000-1709470800@fecpc.cat
SUMMARY:Natació - Ct. Catalunya Hivern
DESCRIPTION:RESULTATS EN DIRECTE
URL:https://fecpc.cat/calendari/ct-catalunya-natacio-hivern/
LOCATION:CN Terrassa\, Av. de l'Abat Marcet\, s/n\, 08225 Terrassa\, Barcelona\, Terrassa\, 08225\, Espanya
CATEGORIES:natació
END:VEVENT
BEGIN:VEVENT
DTSTART;TZID=UTC:20240302T100000
DTEND;TZID=UTC:20240302T173000
DTSTAMP:20260420T042439
CREATED:20240103T110534Z
LAST-MODIFIED:20240103T110534Z
UID:1467-1709373600-1709400600@fecpc.cat
SUMMARY:5ª Tecnificació Catalana de Boccia de Joves 23-24
DESCRIPTION:
URL:https://fecpc.cat/calendari/5a-tecnificacio-catalana-de-boccia-de-joves-23-24/
LOCATION:CAR Centre d’Alt Rendiment\, Avda. Alcalde Barnils\, 3-5\, Sant Cugat del Vallès\, 08174\, Espanya
CATEGORIES:boccia
END:VEVENT
BEGIN:VEVENT
DTSTART;TZID=UTC:20240302T100000
DTEND;TZID=UTC:20240302T140000
DTSTAMP:20260420T042439
CREATED:20231018T110928Z
LAST-MODIFIED:20240301T080626Z
UID:1385-1709373600-1709388000@fecpc.cat
SUMMARY:Atletisme - Ct. Catalunya Adaptat Open
DESCRIPTION:Consulta els resultats en directe!
URL:https://fecpc.cat/calendari/ct-catalunya-individual-open-atletisme/
LOCATION:Pistes Hospitalet Nord\, Avinguda de Manuel Azaña\, Hospitalet de Llobregat\, Barcelona\, 08906
CATEGORIES:atletisme
ORGANIZER;CN="FECPC":MAILTO:fecpc@fecpc.cat
END:VEVENT
BEGIN:VEVENT
DTSTART;VALUE=DATE:20240302
DTEND;VALUE=DATE:20240304
DTSTAMP:20260420T042439
CREATED:20240206T170537Z
LAST-MODIFIED:20240206T170537Z
UID:1614-1709337600-1709510399@fecpc.cat
SUMMARY:Futbol - 1ª i 2ª Jornada Lliga Promeses FEDPC - Berriz
DESCRIPTION:Participen els equips catalans: FECPC i Adiam
URL:https://fecpc.cat/calendari/futbol-1a-i-2a-jornada-lliga-promeses-fedpc-berriz/
LOCATION:Camp de Futbol Berrizburu\, Learreta-Markina Kalea\, 28\, Berriz\, 48240\, Espanya
CATEGORIES:futbol
END:VEVENT
BEGIN:VEVENT
DTSTART;VALUE=DATE:20240302
DTEND;VALUE=DATE:20240304
DTSTAMP:20260420T042439
CREATED:20240206T170050Z
LAST-MODIFIED:20240206T170720Z
UID:1611-1709337600-1709510399@fecpc.cat
SUMMARY:Futbol – 4ª i 5ª Jornada Lliga Nacional – Eibar
DESCRIPTION:QUADRE ENFRONTAMENTS LLIGA NACIONAL FT7 \nParticipa l’equip català: Disport FC
URL:https://fecpc.cat/calendari/futbol-4a-i-5a-jornada-lliga-nacional-eibar/
LOCATION:Estadi Municipal d’Ipurúa\, Ipurua Kalea\, 2\, Eibar\, 20600\, Espanya
CATEGORIES:futbol
END:VEVENT
BEGIN:VEVENT
DTSTART;TZID=UTC:20240225T093000
DTEND;TZID=UTC:20240225T130000
DTSTAMP:20260420T042439
CREATED:20240118T111421Z
LAST-MODIFIED:20240219T153605Z
UID:1572-1708853400-1708866000@fecpc.cat
SUMMARY:Futbol - 3ª Jornada Lliga Catalana Infantil i Juvenil - Sant Boi
DESCRIPTION:
URL:https://fecpc.cat/calendari/futbol-3a-jornada-lliga-catalana-infantil-i-juvenil-sant-boi/
LOCATION:CEM Pau Gasol\, C/ de Lluís Companys\, 23\, Sant Boi de Llobregat\, Barcelona\, 08830\, Espanya
CATEGORIES:futbol
ORGANIZER;CN="FECPC":MAILTO:fecpc@fecpc.cat
END:VEVENT
BEGIN:VEVENT
DTSTART;TZID=UTC:20240224T093000
DTEND;TZID=UTC:20240224T173000
DTSTAMP:20260420T042439
CREATED:20231013T095828Z
LAST-MODIFIED:20240125T150512Z
UID:1372-1708767000-1708795800@fecpc.cat
SUMMARY:Boccia - Campionat Catalunya Parelles i Equips - Esplugues
DESCRIPTION:
URL:https://fecpc.cat/calendari/ct-catalunya-boccia-parelles-i-equips/
LOCATION:Pavelló Blume\, C/ Sant Mateu\, s/n\, Esplugues de Llobregat\, Barcelona\, 08950\, Espanya
CATEGORIES:boccia
ORGANIZER;CN="FECPC":MAILTO:fecpc@fecpc.cat
END:VEVENT
BEGIN:VEVENT
DTSTART;TZID=UTC:20240218T160000
DTEND;TZID=UTC:20240218T190000
DTSTAMP:20260420T042439
CREATED:20240118T115001Z
LAST-MODIFIED:20240206T164128Z
UID:1576-1708272000-1708282800@fecpc.cat
SUMMARY:Powerchair Football - Copa Catalana - 1ª jornada
DESCRIPTION:
URL:https://fecpc.cat/calendari/powerchair-football-copa-catalunya-esplugues/
LOCATION:CEM LES MORERES\, Plaça de les Moreres s/n\, Esplugues de Llobregat\, 08950\, Espanya
CATEGORIES:Powerchair Football
END:VEVENT
BEGIN:VEVENT
DTSTART;TZID=UTC:20240218T100000
DTEND;TZID=UTC:20240218T140000
DTSTAMP:20260420T042439
CREATED:20240118T110611Z
LAST-MODIFIED:20240125T150313Z
UID:1569-1708250400-1708264800@fecpc.cat
SUMMARY:Boccia - 4ª Jornada Lliga Catalana - Sta. Coloma Cervelló
DESCRIPTION:
URL:https://fecpc.cat/calendari/boccia-4a-jornada-lliga-catalana-sta-coloma-cervello/
LOCATION:Pavello Municipal Santa Coloma de Cervelló\, Avinguda dels Països Catalans\, 1\, Santa Coloma de Cervelló\, 08690\, Espanya
CATEGORIES:boccia
ORGANIZER;CN="FECPC":MAILTO:fecpc@fecpc.cat
END:VEVENT
BEGIN:VEVENT
DTSTART;TZID=UTC:20240217T110000
DTEND;TZID=UTC:20240217T130000
DTSTAMP:20260420T042439
CREATED:20240118T105801Z
LAST-MODIFIED:20240118T105801Z
UID:1563-1708167600-1708174800@fecpc.cat
SUMMARY:Futbol - 4ª Tecnificació Femení - CAR
DESCRIPTION:
URL:https://fecpc.cat/calendari/futbol-4a-tecnificacio-femeni-car/
LOCATION:CAR Centre d’Alt Rendiment\, Avda. Alcalde Barnils\, 3-5\, Sant Cugat del Vallès\, 08174\, Espanya
CATEGORIES:futbol
ORGANIZER;CN="FECPC":MAILTO:fecpc@fecpc.cat
END:VEVENT
BEGIN:VEVENT
DTSTART;VALUE=DATE:20240217
DTEND;VALUE=DATE:20240219
DTSTAMP:20260420T042439
CREATED:20240118T110043Z
LAST-MODIFIED:20240206T170650Z
UID:1565-1708128000-1708300799@fecpc.cat
SUMMARY:Futbol - 2ª i 3ª Jornada Lliga Nacional - Alicante
DESCRIPTION:QUADRE ENFRONTAMENTS LLIGA NACIONAL FT7 \nParticipa l’equip català: Disport FC
URL:https://fecpc.cat/calendari/futbol-2a-i-3a-jornada-lliga-nacional-alicante/
LOCATION:Alicante\, Alicante\, Comunitat Valenciana\, Espanya
CATEGORIES:futbol
END:VEVENT
BEGIN:VEVENT
DTSTART;TZID=UTC:20240211T093000
DTEND;TZID=UTC:20240211T150000
DTSTAMP:20260420T042439
CREATED:20231018T110720Z
LAST-MODIFIED:20240130T144709Z
UID:1383-1707643800-1707663600@fecpc.cat
SUMMARY:Slalom - ANUL·LADA 3ª Jornada Puntuable - Sant Cugat
DESCRIPTION:ANUL·LADA
URL:https://fecpc.cat/calendari/3a-jornada-slalom-sant-cugat/
LOCATION:Pavello de la Guinardera\, Av. de la Guinardera\, Sant Cugat del Vallès\, 08174
CATEGORIES:slalom
ORGANIZER;CN="FECPC":MAILTO:fecpc@fecpc.cat
END:VEVENT
BEGIN:VEVENT
DTSTART;VALUE=DATE:20240210
DTEND;VALUE=DATE:20240212
DTSTAMP:20260420T042439
CREATED:20231018T110451Z
LAST-MODIFIED:20240205T122354Z
UID:1380-1707523200-1707695999@fecpc.cat
SUMMARY:Natació - 9è Trofeu Internacional Natació Adaptada
DESCRIPTION:
URL:https://fecpc.cat/calendari/9e-trofeu-internacional-natacio/
LOCATION:CN Barcelona\, Pg. de Joan de Borbó\, 93\, Barcelona\, 08039\, Espanya
CATEGORIES:natació
ORGANIZER;CN="FECPC":MAILTO:fecpc@fecpc.cat
END:VEVENT
BEGIN:VEVENT
DTSTART;TZID=UTC:20240203T100000
DTEND;TZID=UTC:20240203T173000
DTSTAMP:20260420T042439
CREATED:20240103T110336Z
LAST-MODIFIED:20240111T103405Z
UID:1465-1706954400-1706981400@fecpc.cat
SUMMARY:Boccia - 4ª Tecnificació Catalana de Joves 23-24 - CAR
DESCRIPTION:
URL:https://fecpc.cat/calendari/4a-tecnificacio-catalana-de-boccia-de-joves-23-24/
LOCATION:CAR Centre d’Alt Rendiment\, Avda. Alcalde Barnils\, 3-5\, Sant Cugat del Vallès\, 08174\, Espanya
CATEGORIES:boccia
ORGANIZER;CN="FECPC":MAILTO:fecpc@fecpc.cat
END:VEVENT
BEGIN:VEVENT
DTSTART;TZID=UTC:20240203T093000
DTEND;TZID=UTC:20240203T130000
DTSTAMP:20260420T042439
CREATED:20240118T105301Z
LAST-MODIFIED:20240130T145015Z
UID:1558-1706952600-1706965200@fecpc.cat
SUMMARY:Futbol - 3ª Jornada Lliga Catalana Absoluta - Esplugues
DESCRIPTION:
URL:https://fecpc.cat/calendari/futbol-3a-jornada-lliga-catalana-absoluta-esplugues/
LOCATION:Pavelló Blume\, C/ Sant Mateu\, s/n\, Esplugues de Llobregat\, Barcelona\, 08950\, Espanya
CATEGORIES:futbol
ORGANIZER;CN="FECPC":MAILTO:fecpc@fecpc.cat
END:VEVENT
BEGIN:VEVENT
DTSTART;VALUE=DATE:20240201
DTEND;VALUE=DATE:20240205
DTSTAMP:20260420T042439
CREATED:20240118T104540Z
LAST-MODIFIED:20240130T145718Z
UID:1555-1706745600-1707091199@fecpc.cat
SUMMARY:Natació - Para Swimming World Series Great Britain 2024
DESCRIPTION:Participa en Daniel Ferrer del CN Mataró
URL:https://fecpc.cat/calendari/natacio-para-swimming-world-series-great-britain-2024/
LOCATION:Aberdeen\, Aberdeen\, Scotland\, regne Unit
CATEGORIES:natació
END:VEVENT
BEGIN:VEVENT
DTSTART;TZID=UTC:20240128T083000
DTEND;TZID=UTC:20240128T120000
DTSTAMP:20260420T042439
CREATED:20240111T165258Z
LAST-MODIFIED:20240125T115042Z
UID:1545-1706430600-1706443200@fecpc.cat
SUMMARY:Futbol - 2ª Jornada Lliga Catalana Absoluta - Cornellà de Llobregat
DESCRIPTION:
URL:https://fecpc.cat/calendari/futbol-2a-jornada-lliga-catalana-absoluta-cornella-de-llobregat/
LOCATION:Pavelló Poliesportiu Municipl Riera\, C/ de Francesc Moragas i Barret\, 5\, Cornellà de Llobregat\, Barcelona\, 08940\, Espanya
CATEGORIES:futbol
ORGANIZER;CN="FECPC":MAILTO:fecpc@fecpc.cat
END:VEVENT
BEGIN:VEVENT
DTSTART;TZID=UTC:20240127T100000
DTEND;TZID=UTC:20240127T120000
DTSTAMP:20260420T042439
CREATED:20240111T102652Z
LAST-MODIFIED:20240111T102652Z
UID:1537-1706349600-1706356800@fecpc.cat
SUMMARY:Futbol - 3ª Tecnificació Femení - CAR
DESCRIPTION:
URL:https://fecpc.cat/calendari/futbol-3a-tecnificacio-femeni-car/
LOCATION:CAR Centre d’Alt Rendiment\, Avda. Alcalde Barnils\, 3-5\, Sant Cugat del Vallès\, 08174\, Espanya
CATEGORIES:futbol
ORGANIZER;CN="FECPC":MAILTO:fecpc@fecpc.cat
END:VEVENT
BEGIN:VEVENT
DTSTART;VALUE=DATE:20240127
DTEND;VALUE=DATE:20240129
DTSTAMP:20260420T042439
CREATED:20240111T104031Z
LAST-MODIFIED:20240111T104032Z
UID:1541-1706313600-1706486399@fecpc.cat
SUMMARY:Natació - Campionat Espanya Joves AXA - Pinto
DESCRIPTION:
URL:https://fecpc.cat/calendari/natacio-campionat-espanya-joves-axa-pinto/
LOCATION:Pinto\, Pinto\, Madrid\, 28320\, Espanya
CATEGORIES:natació
END:VEVENT
BEGIN:VEVENT
DTSTART;VALUE=DATE:20240127
DTEND;VALUE=DATE:20240128
DTSTAMP:20260420T042439
CREATED:20240103T103015Z
LAST-MODIFIED:20240111T103321Z
UID:1453-1706313600-1706399999@fecpc.cat
SUMMARY:Futbol - 1ª Jornada Lliga Nacional - Galapagar
DESCRIPTION:QUADRE ENFRONTAMENTS LLIGA NACIONAL FT7
URL:https://fecpc.cat/calendari/1a-jornada-lliga-nacional-futbol-7-fedpc/
LOCATION:Campo Municipal El Chopo\, C/ La Chopera\, 2\, Galapagar\, Madrid\, 28260\, Espanya
CATEGORIES:futbol
END:VEVENT
END:VCALENDAR