BEGIN:VCALENDAR
VERSION:2.0
PRODID:-//FECPC - Federació Esportiva Catalana de Persones amb Lesió Cerebral - ECPv6.15.20//NONSGML v1.0//EN
CALSCALE:GREGORIAN
METHOD:PUBLISH
X-WR-CALNAME:FECPC - Federació Esportiva Catalana de Persones amb Lesió Cerebral
X-ORIGINAL-URL:https://fecpc.cat
X-WR-CALDESC:Esdeveniments per FECPC - Federació Esportiva Catalana de Persones amb Lesió Cerebral
REFRESH-INTERVAL;VALUE=DURATION:PT1H
X-Robots-Tag:noindex
X-PUBLISHED-TTL:PT1H
BEGIN:VTIMEZONE
TZID:UTC
BEGIN:STANDARD
TZOFFSETFROM:+0000
TZOFFSETTO:+0000
TZNAME:UTC
DTSTART:20220101T000000
END:STANDARD
END:VTIMEZONE
BEGIN:VEVENT
DTSTART;VALUE=DATE:20231201
DTEND;VALUE=DATE:20231204
DTSTAMP:20260422T101540
CREATED:20231130T164206Z
LAST-MODIFIED:20231130T164206Z
UID:1439-1701388800-1701647999@fecpc.cat
SUMMARY:Concentració Selecció espanyola Femenina Futbol FEDPC
DESCRIPTION:Convocades les següents jugadores amb llicència de la FECPC: \nAlba Bizarro –  CE Vila Olímpica \nYesica Tatiana Muñoz – CE Vila Olímpica \nMaria Agustí – CE Vila Olímpica \nSusana Pérez – CE Vila Olímpica \nSandra Martín – CE Vila Olímpica \nEider Acasuso – CE Vila Olímpica \nStaff tècnic català: Núria Busquets\, Ivette Moré i Ester Pujadas. \nSeleccionadora: Sonia Noell
URL:https://fecpc.cat/calendari/concentracio-seleccio-espanyola-femenina-futbol-fedpc/
LOCATION:CAR Centre d’Alt Rendiment\, Avda. Alcalde Barnils\, 3-5\, Sant Cugat del Vallès\, 08174\, Espanya
CATEGORIES:futbol
END:VEVENT
BEGIN:VEVENT
DTSTART;TZID=UTC:20231125T150000
DTEND;TZID=UTC:20231125T190000
DTSTAMP:20260422T101540
CREATED:20231122T113042Z
LAST-MODIFIED:20231122T113042Z
UID:1427-1700924400-1700938800@fecpc.cat
SUMMARY:1ª Jornada de Natació - Mataró
DESCRIPTION:Horari: \n15h – Escalfament \n15’50h – Lliurament de premis de la temporada 22-23 \n16h- Inici competició \n 
URL:https://fecpc.cat/calendari/1a-jornada-de-natacio-mataro/
LOCATION:CN Mataró\, Passeig Marítim\, 92\, Mataró\, 08302\, Espanya
CATEGORIES:natació
ORGANIZER;CN="FECPC":MAILTO:fecpc@fecpc.cat
END:VEVENT
BEGIN:VEVENT
DTSTART;TZID=UTC:20231125T100000
DTEND;TZID=UTC:20231125T130000
DTSTAMP:20260422T101540
CREATED:20231013T093313Z
LAST-MODIFIED:20231110T100258Z
UID:1355-1700906400-1700917200@fecpc.cat
SUMMARY:1ª Jornada Boccia - Molins de Rei
DESCRIPTION:
URL:https://fecpc.cat/calendari/1a-jornada-boccia-molins-de-rei/
LOCATION:Poliesportiu Municipal Molins de Rei\, C/ Sant Antoni Maria Claret\, 1 bis\, Molins de Rei\, Barcelona\, 08750\, Espanya
CATEGORIES:boccia
ORGANIZER;CN="FECPC":MAILTO:fecpc@fecpc.cat
END:VEVENT
BEGIN:VEVENT
DTSTART;TZID=UTC:20231125T100000
DTEND;TZID=UTC:20231125T120000
DTSTAMP:20260422T101540
CREATED:20231013T093521Z
LAST-MODIFIED:20231110T091228Z
UID:1358-1700906400-1700913600@fecpc.cat
SUMMARY:2ª Tecnificació Futbol Femení - ANUL·LADA
DESCRIPTION:
URL:https://fecpc.cat/calendari/2a-tecnificacio-futbol-femeni/
LOCATION:CAR Centre d’Alt Rendiment\, Avda. Alcalde Barnils\, 3-5\, Sant Cugat del Vallès\, 08174\, Espanya
CATEGORIES:futbol
ORGANIZER;CN="FECPC":MAILTO:fecpc@fecpc.cat
END:VEVENT
BEGIN:VEVENT
DTSTART;TZID=UTC:20231118T100000
DTEND;TZID=UTC:20231118T173000
DTSTAMP:20260422T101540
CREATED:20231107T155643Z
LAST-MODIFIED:20231107T155643Z
UID:1408-1700301600-1700328600@fecpc.cat
SUMMARY:1ª Tecnificació Catalana de Boccia de Joves 23-24
DESCRIPTION:
URL:https://fecpc.cat/calendari/1a-tecnificacio-catalana-de-boccia-de-joves-23-24/
LOCATION:CAR Centre d’Alt Rendiment\, Avda. Alcalde Barnils\, 3-5\, Sant Cugat del Vallès\, 08174\, Espanya
CATEGORIES:boccia
ORGANIZER;CN="FECPC":MAILTO:fecpc@fecpc.cat
END:VEVENT
BEGIN:VEVENT
DTSTART;VALUE=DATE:20231117
DTEND;VALUE=DATE:20231120
DTSTAMP:20260422T101540
CREATED:20231013T092859Z
LAST-MODIFIED:20231106T130214Z
UID:1353-1700179200-1700438399@fecpc.cat
SUMMARY:Concentració Futbol Sub19 FEDPC
DESCRIPTION:
URL:https://fecpc.cat/calendari/tecnificacio-futbol-sub19-fedpc/
LOCATION:CAR Centre d’Alt Rendiment\, Avda. Alcalde Barnils\, 3-5\, Sant Cugat del Vallès\, 08174\, Espanya
CATEGORIES:futbol
END:VEVENT
BEGIN:VEVENT
DTSTART;TZID=UTC:20231112T120000
DTEND;TZID=UTC:20231112T140000
DTSTAMP:20260422T101540
CREATED:20231107T130152Z
LAST-MODIFIED:20231107T130152Z
UID:1406-1699790400-1699797600@fecpc.cat
SUMMARY:1ª Tecnificació Catalana Futbol Masculí
DESCRIPTION:
URL:https://fecpc.cat/calendari/1a-tecnificacio-catalana-futbol-masculi/
LOCATION:CAR Centre d’Alt Rendiment\, Avda. Alcalde Barnils\, 3-5\, Sant Cugat del Vallès\, 08174\, Espanya
CATEGORIES:futbol
ORGANIZER;CN="FECPC":MAILTO:fecpc@fecpc.cat
END:VEVENT
BEGIN:VEVENT
DTSTART;TZID=UTC:20231111T093000
DTEND;TZID=UTC:20231111T180000
DTSTAMP:20260422T101540
CREATED:20231107T112334Z
LAST-MODIFIED:20231107T112334Z
UID:1402-1699695000-1699725600@fecpc.cat
SUMMARY:1ª jornada Liga Desarrollo ACPFE - Powerchair Football
DESCRIPTION:
URL:https://fecpc.cat/calendari/1a-jornada-liga-desarrollo-acpfe-powerchair-football/
LOCATION:CEM LES MORERES\, Plaça de les Moreres s/n\, Esplugues de Llobregat\, 08950\, Espanya
CATEGORIES:Powerchair Football
END:VEVENT
BEGIN:VEVENT
DTSTART;VALUE=DATE:20231110
DTEND;VALUE=DATE:20231113
DTSTAMP:20260422T101540
CREATED:20231106T131057Z
LAST-MODIFIED:20231106T131057Z
UID:1400-1699574400-1699833599@fecpc.cat
SUMMARY:Concentració Programa "Mujer y Deporte" FEDPC
DESCRIPTION:Convocades de la FECPC: \nNúria Gisela Chancusi – Esportista Boccia – Boccia Team \nLiliana Pucci – Tècnica Boccia team
URL:https://fecpc.cat/calendari/concentracio-programa-mujer-y-deporte-fedpc/
LOCATION:CAR Centre d’Alt Rendiment\, Avda. Alcalde Barnils\, 3-5\, Sant Cugat del Vallès\, 08174\, Espanya
CATEGORIES:boccia
END:VEVENT
BEGIN:VEVENT
DTSTART;VALUE=DATE:20231110
DTEND;VALUE=DATE:20231113
DTSTAMP:20260422T101540
CREATED:20231106T130529Z
LAST-MODIFIED:20231130T164437Z
UID:1395-1699574400-1699833599@fecpc.cat
SUMMARY:Concentració Selecció espanyola masculina Futbol FEDPC
DESCRIPTION:Convocats tres jugadors amb llicència de la FECPC: \nAitor Ariño –  Disport FC \nAlejandro González – Disport FC \nAketza Requena –  Disport FC
URL:https://fecpc.cat/calendari/concentracio-seleccio-espanyola-futbol-fedpc/
LOCATION:Elche (Alicante)
CATEGORIES:futbol
END:VEVENT
BEGIN:VEVENT
DTSTART;VALUE=DATE:20231104
DTEND;VALUE=DATE:20231106
DTSTAMP:20260422T101540
CREATED:20231013T092653Z
LAST-MODIFIED:20231013T092653Z
UID:1351-1699056000-1699228799@fecpc.cat
SUMMARY:2ª Copa Espanya Futbol Femení
DESCRIPTION:
URL:https://fecpc.cat/calendari/2a-copa-espanya-futbol-femeni/
CATEGORIES:futbol
END:VEVENT
BEGIN:VEVENT
DTSTART;TZID=UTC:20231029T100000
DTEND;TZID=UTC:20231029T120000
DTSTAMP:20260422T101540
CREATED:20231013T092430Z
LAST-MODIFIED:20231013T092501Z
UID:1349-1698573600-1698580800@fecpc.cat
SUMMARY:1ª Tecnificació Futbol Femení
DESCRIPTION:
URL:https://fecpc.cat/calendari/1a-tecnificacio-futbol-femeni/
LOCATION:CAR Centre d’Alt Rendiment\, Avda. Alcalde Barnils\, 3-5\, Sant Cugat del Vallès\, 08174\, Espanya
CATEGORIES:futbol
ORGANIZER;CN="FECPC":MAILTO:fecpc@fecpc.cat
END:VEVENT
BEGIN:VEVENT
DTSTART;VALUE=DATE:20231019
DTEND;VALUE=DATE:20231023
DTSTAMP:20260422T101540
CREATED:20231018T105410Z
LAST-MODIFIED:20231018T105410Z
UID:1374-1697673600-1698019199@fecpc.cat
SUMMARY:CP Female European Nations League Tournament
DESCRIPTION:
URL:https://fecpc.cat/calendari/cp-female-european-nations-league-tournament/
LOCATION:Korsor\, Korsor\, Dinamarca
CATEGORIES:futbol
END:VEVENT
BEGIN:VEVENT
DTSTART;VALUE=DATE:20230913
DTEND;VALUE=DATE:20230918
DTSTAMP:20260422T101540
CREATED:20230710T080314Z
LAST-MODIFIED:20230905T104202Z
UID:1279-1694563200-1694995199@fecpc.cat
SUMMARY:Futbol - IFCPF Club World Cup - TICB
DESCRIPTION:
URL:https://fecpc.cat/calendari/futbol-ifcpf-club-world-cup-ticb/
LOCATION:Camp Municipal de Futbol Poblenou – Agapito Fernández\, Avinguda del Litoral 100\, Barcelona\, 08005\, Espanya
CATEGORIES:futbol
ORGANIZER;CN="FECPC":MAILTO:fecpc@fecpc.cat
END:VEVENT
BEGIN:VEVENT
DTSTART;VALUE=DATE:20230828
DTEND;VALUE=DATE:20230902
DTSTAMP:20260422T101540
CREATED:20230706T111554Z
LAST-MODIFIED:20230706T111554Z
UID:1276-1693180800-1693612799@fecpc.cat
SUMMARY:Natació - Campus
DESCRIPTION:Inscripcions: https://forms.office.com/e/xeZ2sAfkHt
URL:https://fecpc.cat/calendari/natacio-campus/
LOCATION:CAR Centre d’Alt Rendiment\, Avda. Alcalde Barnils\, 3-5\, Sant Cugat del Vallès\, 08174\, Espanya
CATEGORIES:natació
ORGANIZER;CN="FECPC":MAILTO:fecpc@fecpc.cat
END:VEVENT
BEGIN:VEVENT
DTSTART;VALUE=DATE:20230828
DTEND;VALUE=DATE:20230902
DTSTAMP:20260422T101540
CREATED:20230706T111445Z
LAST-MODIFIED:20230706T111445Z
UID:1272-1693180800-1693612799@fecpc.cat
SUMMARY:Futbol - Campus
DESCRIPTION:Inscripcions:  https://forms.office.com/e/pX44TrY7Jr
URL:https://fecpc.cat/calendari/futbol-campus/
LOCATION:CAR Centre d’Alt Rendiment\, Avda. Alcalde Barnils\, 3-5\, Sant Cugat del Vallès\, 08174\, Espanya
CATEGORIES:futbol
ORGANIZER;CN="FECPC":MAILTO:fecpc@fecpc.cat
END:VEVENT
BEGIN:VEVENT
DTSTART;VALUE=DATE:20230808
DTEND;VALUE=DATE:20230814
DTSTAMP:20260422T101540
CREATED:20221225T110003Z
LAST-MODIFIED:20230719T081233Z
UID:552-1691452800-1691971199@fecpc.cat
SUMMARY:Boccia - Campionat Europa
DESCRIPTION:
URL:https://fecpc.cat/calendari/boccia-campionat-europa/
LOCATION:Rotterdam\, Rotterdam\, Països Baixos
CATEGORIES:boccia
END:VEVENT
BEGIN:VEVENT
DTSTART;VALUE=DATE:20230731
DTEND;VALUE=DATE:20230807
DTSTAMP:20260422T101540
CREATED:20221225T105803Z
LAST-MODIFIED:20230719T082308Z
UID:549-1690761600-1691366399@fecpc.cat
SUMMARY:Natació - Campionat del Món
DESCRIPTION:
URL:https://fecpc.cat/calendari/natacio-campionat-del-mon/
LOCATION:Manchester\, Manchester\, regne Unit
CATEGORIES:natació
END:VEVENT
BEGIN:VEVENT
DTSTART;TZID=UTC:20230715T160000
DTEND;TZID=UTC:20230715T200000
DTSTAMP:20260422T101540
CREATED:20230509T155449Z
LAST-MODIFIED:20230714T082834Z
UID:1186-1689436800-1689451200@fecpc.cat
SUMMARY:Natació - Campionat Catalunya Estiu
DESCRIPTION:Data límit inscripció: 5 de juliol a les 13h – Plataforma Àgora \nHORARI:\n➢ Escalfament: 16:00h. – 16:45h\n➢ Competició: 17:00h. – 19:30h\n➢ Lliurament de premis: 19:45h
URL:https://fecpc.cat/calendari/natacio-campionat-catalunya-estiu/
LOCATION:Centre Natació Mataró\, Passeig Marítim\, 92\, Mataró\, 08302\, Espanya
CATEGORIES:natació
END:VEVENT
BEGIN:VEVENT
DTSTART;VALUE=DATE:20230708
DTEND;VALUE=DATE:20230715
DTSTAMP:20260422T101540
CREATED:20230706T091054Z
LAST-MODIFIED:20230706T091054Z
UID:1269-1688774400-1689379199@fecpc.cat
SUMMARY:Boccia - Campionat del Món Juvenil
DESCRIPTION:Participen les àrbitres internacionals: Teresa Calverol i Andrea Zamora
URL:https://fecpc.cat/calendari/boccia-campionat-del-mon-juvenil/
LOCATION:Povoa de Varzim\, Povoa de Varzim\, 4490\, Portugal
CATEGORIES:boccia
END:VEVENT
BEGIN:VEVENT
DTSTART;VALUE=DATE:20230707
DTEND;VALUE=DATE:20230718
DTSTAMP:20260422T101540
CREATED:20221225T105555Z
LAST-MODIFIED:20221225T105555Z
UID:546-1688688000-1689638399@fecpc.cat
SUMMARY:Atletisme - Campionat del Món
DESCRIPTION:
URL:https://fecpc.cat/calendari/atletisme-campionat-del-mon/
LOCATION:Paris\, França
CATEGORIES:atletisme
END:VEVENT
BEGIN:VEVENT
DTSTART;TZID=UTC:20230701T123000
DTEND;TZID=UTC:20230701T140000
DTSTAMP:20260422T101540
CREATED:20230615T113057Z
LAST-MODIFIED:20230615T123136Z
UID:1254-1688214600-1688220000@fecpc.cat
SUMMARY:Waterpolo - Setmana Catalana de l'Esport
DESCRIPTION:Partit: Catalunya vs Itàlia
URL:https://fecpc.cat/calendari/waterpolo-setmana-catalana-de-lesport/
LOCATION:CN Sabadell\, C/ Budapest\, 1\, Sabadell\, 08206\, Espanya
CATEGORIES:waterpolo
END:VEVENT
BEGIN:VEVENT
DTSTART;TZID=UTC:20230701T090000
DTEND;TZID=UTC:20230701T160000
DTSTAMP:20260422T101540
CREATED:20230613T115523Z
LAST-MODIFIED:20230615T100349Z
UID:1236-1688202000-1688227200@fecpc.cat
SUMMARY:Futbol en cadira de rodes a motor - Setmana Catalana de l'Esport
DESCRIPTION:Hi participa el Barcelona Powerchair Football Club.
URL:https://fecpc.cat/calendari/futbol-en-cadira-de-rodes-a-motor-setmana-catalana-de-lesport/
LOCATION:CEM LES MORERES\, Plaça de les Moreres s/n\, Esplugues de Llobregat\, 08950\, Espanya
CATEGORIES:Powerchair Football
ORGANIZER;CN="FECPC":MAILTO:fecpc@fecpc.cat
END:VEVENT
BEGIN:VEVENT
DTSTART;VALUE=DATE:20230701
DTEND;VALUE=DATE:20230703
DTSTAMP:20260422T101540
CREATED:20230329T104415Z
LAST-MODIFIED:20230329T104415Z
UID:1101-1688169600-1688342399@fecpc.cat
SUMMARY:Boccia - Ct. d'Espanya per Clubs 2023
DESCRIPTION:
URL:https://fecpc.cat/calendari/boccia-ct-despanya-per-clubs-2023/
LOCATION:Pavelló de la Alquería del Basket\, C/ Del Bomber Ramon Duart\, s/n\, València\, 46013\, Espanya
CATEGORIES:boccia
END:VEVENT
BEGIN:VEVENT
DTSTART;VALUE=DATE:20230628
DTEND;VALUE=DATE:20230703
DTSTAMP:20260422T101540
CREATED:20230613T114938Z
LAST-MODIFIED:20230615T100705Z
UID:1231-1687910400-1688342399@fecpc.cat
SUMMARY:Futbol 7 - Setmana Catalana de l'Esport
DESCRIPTION:Hi participa la Selecció Catalana de la FECPC.
URL:https://fecpc.cat/calendari/futbol-7-setmana-catalana-de-lesport/
LOCATION:Camp Municipal Can Vinader\, Rambla de Blas Infante\, s/n\, Castelldefels\, 08860\, Espanya
CATEGORIES:futbol
ORGANIZER;CN="FECPC":MAILTO:fecpc@fecpc.cat
END:VEVENT
BEGIN:VEVENT
DTSTART;TZID=UTC:20230625T100000
DTEND;TZID=UTC:20230625T120000
DTSTAMP:20260422T101540
CREATED:20230508T143819Z
LAST-MODIFIED:20230508T143819Z
UID:1164-1687687200-1687694400@fecpc.cat
SUMMARY:Futbol - 5ª Tecnificació Futbol Masculí
DESCRIPTION:
URL:https://fecpc.cat/calendari/futbol-5a-tecnificacio-futbol-masculi/
LOCATION:CAR Centre d’Alt Rendiment\, Avda. Alcalde Barnils\, 3-5\, Sant Cugat del Vallès\, 08174\, Espanya
CATEGORIES:futbol
ORGANIZER;CN="FECPC":MAILTO:fecpc@fecpc.cat
END:VEVENT
BEGIN:VEVENT
DTSTART;VALUE=DATE:20230624
DTEND;VALUE=DATE:20230626
DTSTAMP:20260422T101540
CREATED:20230509T153448Z
LAST-MODIFIED:20230619T074426Z
UID:1182-1687564800-1687737599@fecpc.cat
SUMMARY:Natació - Ct. Espanya Clubs
DESCRIPTION:
URL:https://fecpc.cat/calendari/natacio-ct-espanya-clubs/
LOCATION:Càdis\, Càdiz
CATEGORIES:natació
END:VEVENT
BEGIN:VEVENT
DTSTART;TZID=UTC:20230620T180000
DTEND;TZID=UTC:20230620T200000
DTSTAMP:20260422T101540
CREATED:20230525T092019Z
LAST-MODIFIED:20230525T092019Z
UID:1203-1687284000-1687291200@fecpc.cat
SUMMARY:Assemblea General Ordinària de la FECPC
DESCRIPTION:Assemblea-Ordinaria-FECPC-2023
URL:https://fecpc.cat/calendari/assemblea-general-ordinaria-de-la-fecpc/
LOCATION:Seu de la FECPC\, Rambla Gipúscoa 23-25\, Barcelona\, Barcelona\, 08018\, Spain
CATEGORIES:FECPC
ORGANIZER;CN="FECPC":MAILTO:fecpc@fecpc.cat
END:VEVENT
BEGIN:VEVENT
DTSTART;TZID=UTC:20230618T093000
DTEND;TZID=UTC:20230618T103000
DTSTAMP:20260422T101540
CREATED:20230203T133716Z
LAST-MODIFIED:20230614T113208Z
UID:1004-1687080600-1687084200@fecpc.cat
SUMMARY:Futbol 7 - Campionat de Catalunya
DESCRIPTION:
URL:https://fecpc.cat/calendari/campionat-de-catalunya-de-futbol-7/
LOCATION:Camp de futbol Baró de Viver\, Carrer de la Ciutat d'Asunción\, 60\, Barcelona\, Barcelona\, 08030\, Spain
CATEGORIES:futbol
ORGANIZER;CN="FECPC":MAILTO:fecpc@fecpc.cat
END:VEVENT
BEGIN:VEVENT
DTSTART;TZID=UTC:20230617T180000
DTEND;TZID=UTC:20230617T193000
DTSTAMP:20260422T101540
CREATED:20230525T104128Z
LAST-MODIFIED:20230614T115837Z
UID:1209-1687024800-1687030200@fecpc.cat
SUMMARY:Futbol promoció - tecnificació
DESCRIPTION:
URL:https://fecpc.cat/calendari/futbol-promocio-tecnificacio/
LOCATION:CAR Centre d’Alt Rendiment\, Avda. Alcalde Barnils\, 3-5\, Sant Cugat del Vallès\, 08174\, Espanya
CATEGORIES:futbol
END:VEVENT
END:VCALENDAR