BEGIN:VCALENDAR
VERSION:2.0
PRODID:-//FECPC - Federació Esportiva Catalana de Persones amb Lesió Cerebral - ECPv6.15.20//NONSGML v1.0//EN
CALSCALE:GREGORIAN
METHOD:PUBLISH
X-ORIGINAL-URL:https://fecpc.cat
X-WR-CALDESC:Esdeveniments per FECPC - Federació Esportiva Catalana de Persones amb Lesió Cerebral
REFRESH-INTERVAL;VALUE=DURATION:PT1H
X-Robots-Tag:noindex
X-PUBLISHED-TTL:PT1H
BEGIN:VTIMEZONE
TZID:UTC
BEGIN:STANDARD
TZOFFSETFROM:+0000
TZOFFSETTO:+0000
TZNAME:UTC
DTSTART:20220101T000000
END:STANDARD
END:VTIMEZONE
BEGIN:VEVENT
DTSTART;TZID=UTC:20230603T100000
DTEND;TZID=UTC:20230603T133000
DTSTAMP:20260422T140640
CREATED:20230118T104129Z
LAST-MODIFIED:20230525T103856Z
UID:973-1685786400-1685799000@fecpc.cat
SUMMARY:Boccia - Campionat de Catalunya Infantil i Juvenil
DESCRIPTION:
URL:https://fecpc.cat/calendari/boccia-campionat-de-catalunya-infantil-i-juvenil/
LOCATION:Pavello Julio Mendez\, 13\, Carrer del Riu Guadalquivir\, 1\, El Prat de Llobregat\, Barcelona\, 08820
CATEGORIES:boccia
ORGANIZER;CN="FECPC":MAILTO:fecpc@fecpc.cat
END:VEVENT
BEGIN:VEVENT
DTSTART;TZID=UTC:20230603T100000
DTEND;TZID=UTC:20230603T120000
DTSTAMP:20260422T140640
CREATED:20230508T143613Z
LAST-MODIFIED:20230508T143613Z
UID:1161-1685786400-1685793600@fecpc.cat
SUMMARY:Futbol - 8ª Tecnificació Futbol Femení
DESCRIPTION:Aquesta tecnificació serà conjunta amb les noies de promoció
URL:https://fecpc.cat/calendari/futbol-8a-tecnificacio-futbol-femeni/
LOCATION:CAR Centre d’Alt Rendiment\, Avda. Alcalde Barnils\, 3-5\, Sant Cugat del Vallès\, 08174\, Espanya
CATEGORIES:futbol
ORGANIZER;CN="FECPC":MAILTO:fecpc@fecpc.cat
END:VEVENT
BEGIN:VEVENT
DTSTART;TZID=UTC:20230601T093000
DTEND;TZID=UTC:20230601T130000
DTSTAMP:20260422T140640
CREATED:20230518T132335Z
LAST-MODIFIED:20230518T132834Z
UID:1192-1685611800-1685624400@fecpc.cat
SUMMARY:Boccia - Prova pilot Jocs Esportius Escolars
DESCRIPTION:Prova pilot realitzant una competició de boccia escolar inclusiva\, en que jugaran per equips\, alumnes d’una escola de primària amb persones amb discapacitat d’una escola d’educació especial de Cornellà de Llobregat. \nOrganitzada per la FECPC\, el Consell Esportiu Escolar de Catalunya i la col·laboració de les federacions d’esport adaptat.
URL:https://fecpc.cat/calendari/boccia-prova-pilot-jocs-esportius-escolars-2/
LOCATION:Pavello Municipal Sant Idelfons\, Avda. Línia Elèctrica\, s/n - CORNELLÀ DE LLOBREGAT\, Cornellà de Llobregat\, 08940\, Espanya
CATEGORIES:boccia
ORGANIZER;CN="FECPC":MAILTO:fecpc@fecpc.cat
END:VEVENT
BEGIN:VEVENT
DTSTART;VALUE=DATE:20230529
DTEND;VALUE=DATE:20230615
DTSTAMP:20260422T140640
CREATED:20221225T105038Z
LAST-MODIFIED:20230602T120720Z
UID:539-1685318400-1686787199@fecpc.cat
SUMMARY:Futbol - Campionat Europa
DESCRIPTION:
URL:https://fecpc.cat/calendari/futbol-campionat-europa/
LOCATION:Sardenya\, Itàlia
CATEGORIES:futbol
END:VEVENT
BEGIN:VEVENT
DTSTART;TZID=UTC:20230528T100000
DTEND;TZID=UTC:20230528T130000
DTSTAMP:20260422T140640
CREATED:20230508T151034Z
LAST-MODIFIED:20230525T104003Z
UID:1171-1685268000-1685278800@fecpc.cat
SUMMARY:Waterpolo - 4ª tecnificació catalana
DESCRIPTION:
URL:https://fecpc.cat/calendari/waterpolo-4a-tecnificacio-catalana/
LOCATION:CAR Centre d’Alt Rendiment\, Avda. Alcalde Barnils\, 3-5\, Sant Cugat del Vallès\, 08174\, Espanya
CATEGORIES:waterpolo
END:VEVENT
BEGIN:VEVENT
DTSTART;TZID=UTC:20230527T100000
DTEND;TZID=UTC:20230527T130000
DTSTAMP:20260422T140640
CREATED:20230518T132735Z
LAST-MODIFIED:20230518T132735Z
UID:1194-1685181600-1685192400@fecpc.cat
SUMMARY:Atletisme - Prova pilot Jocs Esportius Escolars
DESCRIPTION:Prova pilot realitzant una competició d’atletisme escolar inclusiva\,  a Vilafranca del Penedès. \nOrganitzada per la FCEC i el Consell Esportiu Escolar de Catalunya\, amb la col·laboració de les federacions d’esport adaptat.
URL:https://fecpc.cat/calendari/atletisme-prova-pilot-jocs-esportius-escolars/
LOCATION:Pista Atletisme Vilafranca del Penedès\, Avda. Catalunya\, s/n\, Vilafranca del Penedès\, Barcelona\, 08720\, Espanya
CATEGORIES:atletisme
END:VEVENT
BEGIN:VEVENT
DTSTART;VALUE=DATE:20230527
DTEND;VALUE=DATE:20230529
DTSTAMP:20260422T140640
CREATED:20230504T112951Z
LAST-MODIFIED:20230504T112951Z
UID:1146-1685145600-1685318399@fecpc.cat
SUMMARY:Atletisme - Ct. Espanya Absolut per Clubs
DESCRIPTION:
URL:https://fecpc.cat/calendari/atletisme-ct-espanya-absolut-per-clubs/
LOCATION:Polideportivo Artunduaga\, Artunduaga Kalea\, s/n\, Basauri\, 48970\, Espanya
CATEGORIES:atletisme
END:VEVENT
BEGIN:VEVENT
DTSTART;VALUE=DATE:20230526
DTEND;VALUE=DATE:20230529
DTSTAMP:20260422T140640
CREATED:20230504T111550Z
LAST-MODIFIED:20230504T113053Z
UID:1139-1685059200-1685318399@fecpc.cat
SUMMARY:Boccia - Copa d'Espanya
DESCRIPTION:
URL:https://fecpc.cat/calendari/copa-despanya-de-boccia/
LOCATION:Polideportivo Barrio de las Delicias\, Calle del Arca Real\, 101\, Valladolid\, 47013\, Espanya
CATEGORIES:boccia
END:VEVENT
BEGIN:VEVENT
DTSTART;TZID=UTC:20230522T093000
DTEND;TZID=UTC:20230522T130000
DTSTAMP:20260422T140640
CREATED:20230518T132136Z
LAST-MODIFIED:20230518T132908Z
UID:1190-1684747800-1684760400@fecpc.cat
SUMMARY:Boccia – Prova Pilot Jocs Esportius Escolars
DESCRIPTION:Prova pilot realitzant una competició de boccia escolar inclusiva\, en que jugaran per equips\, alumnes d’una escola de secundària amb persones amb discapacitat d’una escola d’educació especial de Cornellà de Llobregat. \nOrganitzada per la FECPC\, el Consell Esportiu Escolar de Catalunya i la col·laboració de les federacions d’esport adaptat.
URL:https://fecpc.cat/calendari/boccia-prova-pilot-jocs-esportius-escolars/
LOCATION:Pavello Municipal Sant Idelfons\, Avda. Línia Elèctrica\, s/n - CORNELLÀ DE LLOBREGAT\, Cornellà de Llobregat\, 08940\, Espanya
CATEGORIES:boccia
ORGANIZER;CN="FECPC":MAILTO:fecpc@fecpc.cat
END:VEVENT
BEGIN:VEVENT
DTSTART;TZID=UTC:20230521T093000
DTEND;TZID=UTC:20230521T133000
DTSTAMP:20260422T140640
CREATED:20230504T111933Z
LAST-MODIFIED:20230504T112104Z
UID:1142-1684661400-1684675800@fecpc.cat
SUMMARY:Futbol - 6ª Jornada Lliga Catalana Absoluta
DESCRIPTION:9’00h Escalfament\n9’30h Partit amistós: Adiam –  AE Badalonès\n10’30h 3r partit: Disport FC Smart Group Joie Blue – Disport FC Smart Group Joie Red\n(partit recuperat 1ª jornada)\n11’30h 1r partit: Associació Esportiva Badalonès 1 – Disport FC Smart Group Joie Red\n12’30h 2n partit: Associació Esportiva Badalonès A – Disport FC Smart Group Joie Blue\n13’15h Lliurament de medalles i trofeus
URL:https://fecpc.cat/calendari/futbol-6a-jornada-lliga-catalana-absoluta/
LOCATION:Complex Esportiu Can Xaubet\, Carretera NII - Km. 669-670\, Pineda de Mar\, 08397\, Espanya
CATEGORIES:futbol
ORGANIZER;CN="FECPC":MAILTO:fecpc@fecpc.cat
END:VEVENT
BEGIN:VEVENT
DTSTART;TZID=UTC:20230520T110000
DTEND;TZID=UTC:20230520T130000
DTSTAMP:20260422T140640
CREATED:20221225T104748Z
LAST-MODIFIED:20221225T104748Z
UID:536-1684580400-1684587600@fecpc.cat
SUMMARY:Atletisme - Meeting Internacional Atletisme Adaptat
DESCRIPTION:
URL:https://fecpc.cat/calendari/atletisme-meeting-internacional-atletisme-adaptat/
LOCATION:Pistes Hospitalet Nord\, Avinguda de Manuel Azaña\, Hospitalet de Llobregat\, Barcelona\, 08906
CATEGORIES:atletisme
ORGANIZER;CN="FECPC":MAILTO:fecpc@fecpc.cat
END:VEVENT
BEGIN:VEVENT
DTSTART;TZID=UTC:20230520T100000
DTEND;TZID=UTC:20230520T130000
DTSTAMP:20260422T140640
CREATED:20230118T103533Z
LAST-MODIFIED:20230118T103534Z
UID:969-1684576800-1684587600@fecpc.cat
SUMMARY:Natació - 2ª Tecnificació Promoció
DESCRIPTION:
URL:https://fecpc.cat/calendari/natacio-2a-tecnificacio-promocio/
LOCATION:CAR Centre d’Alt Rendiment\, Avda. Alcalde Barnils\, 3-5\, Sant Cugat del Vallès\, 08174\, Espanya
CATEGORIES:natació
ORGANIZER;CN="FECPC":MAILTO:fecpc@fecpc.cat
END:VEVENT
BEGIN:VEVENT
DTSTART;VALUE=DATE:20230520
DTEND;VALUE=DATE:20230522
DTSTAMP:20260422T140640
CREATED:20230118T103618Z
LAST-MODIFIED:20230118T103618Z
UID:971-1684540800-1684713599@fecpc.cat
SUMMARY:Natació - 3ª Tecnificació
DESCRIPTION:
URL:https://fecpc.cat/calendari/natacio-3a-tecnificacio/
LOCATION:CAR Centre d’Alt Rendiment\, Avda. Alcalde Barnils\, 3-5\, Sant Cugat del Vallès\, 08174\, Espanya
CATEGORIES:natació
ORGANIZER;CN="FECPC":MAILTO:fecpc@fecpc.cat
END:VEVENT
BEGIN:VEVENT
DTSTART;TZID=UTC:20230513T090000
DTEND;TZID=UTC:20230513T140000
DTSTAMP:20260422T140640
CREATED:20230508T145425Z
LAST-MODIFIED:20230508T145425Z
UID:1167-1683968400-1683986400@fecpc.cat
SUMMARY:Natació - Prova Pilot Jocs Esportius Escolars
DESCRIPTION:Prova pilot en que s’inclouen a infants i joves amb discapacitat a una jornada dels Jocs Esportius Escolars de Catalunya\, organitzats pel Consell Esportiu Escolar de Catalunya\, en aquesta jornada puntual amb la col·laboració de les federacions d’esport adaptat. \nJornada inclosa dins la Final comarcal dels Jocs Esportius Escolars. \nHoraris: \n1er Bloc competició : Categories Aleví (nascuts/des 2011-2012)  i Infantil (2009-2010) \n\nHorari convocatòria : 8’25h\nEscalfament : 8’30 a 8’55h\nInici competició : 9’00h\nFi competició : 10’00h\nLliurament de premis : 10’00h\n\n2n Bloc competició : Categories Cadet (nascuts/des 2007-2008) i Juvenil (2005-2006) \n\nHorari convocatòria : 10’15h\nEscalfament : 10’30 a 10’55h\nInici competició : 11’00h\nFi competició : 12’00h\nLliurament de premis : 12’00h\n\n3er Bloc competició : Categories Pre-benjamí (nascuts/des 2015-2016) i Benjamí (2013-14) \n\nHorari convocatòria : 12’15h\nEscalfament : 12’30 a 12’55h\nInici competició : 13h\nFi competició : 14h\nLliurament de premis : 14h
URL:https://fecpc.cat/calendari/natacio-prova-pilot-jocs-esportius-escolars/
LOCATION:Montcada Aqua\, Tarragona\, 32\, Montcada i Reixac\, 08110\, Espanya
CATEGORIES:natació
END:VEVENT
BEGIN:VEVENT
DTSTART;TZID=UTC:20230507T113000
DTEND;TZID=UTC:20230507T130000
DTSTAMP:20260422T140640
CREATED:20230504T111306Z
LAST-MODIFIED:20230504T111306Z
UID:1137-1683459000-1683464400@fecpc.cat
SUMMARY:Waterpolo - 5ª jornada
DESCRIPTION:Enfrontament – CN Barcelona vs CN Sabadell
URL:https://fecpc.cat/calendari/waterpolo-5a-jornada/
LOCATION:CN Barcelona\, Pg. de Joan de Borbó\, 93\, Barcelona\, 08039\, Espanya
CATEGORIES:waterpolo
END:VEVENT
BEGIN:VEVENT
DTSTART;TZID=UTC:20230507T103000
DTEND;TZID=UTC:20230507T133000
DTSTAMP:20260422T140640
CREATED:20230315T135445Z
LAST-MODIFIED:20230414T114418Z
UID:1080-1683455400-1683466200@fecpc.cat
SUMMARY:Futbol – 5ª Jornada Lligueta Catalana de Promoció
DESCRIPTION:Horari: \n10’30h Escalfament\n11’00h 1r partit: CF Vilanova del Vallès PC – Fent Esport\n12’00h 2n partit: Disport FC Smart Group Joie – Associació Esportiva Badalonès\n13’00h Lliurament de trofeus i medalles
URL:https://fecpc.cat/calendari/futbol-5a-jornada-lligueta-catalana-de-promocio/
LOCATION:Pavelló Poliesportiu Municipal\, Maria Aurèlia Campany\, 2-4\, Vilanova del Vallès\, Barcelona\, 08410\, Espanya
CATEGORIES:futbol
ORGANIZER;CN="FECPC":MAILTO:fecpc@fecpc.cat
END:VEVENT
BEGIN:VEVENT
DTSTART;TZID=UTC:20230507T100000
DTEND;TZID=UTC:20230507T143000
DTSTAMP:20260422T140640
CREATED:20221225T104402Z
LAST-MODIFIED:20230504T105652Z
UID:533-1683453600-1683469800@fecpc.cat
SUMMARY:Slalom - 32è Campionat Catalunya Absolut\, Infantil i Juvenil
DESCRIPTION:
URL:https://fecpc.cat/calendari/slalom-32e-campionat-catalunya-absolut-infantil-i-juvenil/
LOCATION:Pavello Can Bassa\, Carrer de Caterina Albert\, 15\, Granollers\, Barcelona\, 09402\, Espanya
CATEGORIES:slalom
END:VEVENT
BEGIN:VEVENT
DTSTART;TZID=UTC:20230506T163000
DTEND;TZID=UTC:20230506T200000
DTSTAMP:20260422T140640
CREATED:20221225T103830Z
LAST-MODIFIED:20230506T151035Z
UID:528-1683390600-1683403200@fecpc.cat
SUMMARY:Atletisme - 33è Campionat Catalunya Individual Open
DESCRIPTION:RESULTATS EN DIRECTE CT.CATALUNYA ATLETISME 2023 \n \n 
URL:https://fecpc.cat/calendari/33e-campionat-catalunya-individual-open/
LOCATION:Pistes Atletisme Can Dragó\, Carrer Rosselló i Porcel\, 7-11\, Barcelona\, 08016
CATEGORIES:atletisme
ORGANIZER;CN="FECPC":MAILTO:fecpc@fecpc.cat
END:VEVENT
BEGIN:VEVENT
DTSTART;TZID=UTC:20230506T100000
DTEND;TZID=UTC:20230506T120000
DTSTAMP:20260422T140640
CREATED:20230504T110856Z
LAST-MODIFIED:20230504T110856Z
UID:1135-1683367200-1683374400@fecpc.cat
SUMMARY:Futbol - 7ª Tecnificació Futbol Femení
DESCRIPTION:
URL:https://fecpc.cat/calendari/futbol-7a-tecnificacio-futbol-femeni/
LOCATION:CAR Centre d’Alt Rendiment\, Avda. Alcalde Barnils\, 3-5\, Sant Cugat del Vallès\, 08174\, Espanya
CATEGORIES:futbol
ORGANIZER;CN="FECPC":MAILTO:fecpc@fecpc.cat
END:VEVENT
BEGIN:VEVENT
DTSTART;TZID=UTC:20230506T100000
DTEND;TZID=UTC:20230506T120000
DTSTAMP:20260422T140640
CREATED:20230118T102957Z
LAST-MODIFIED:20230228T124741Z
UID:964-1683367200-1683374400@fecpc.cat
SUMMARY:Futbol - 4ª Tecnificació Futbol 7 Masculí
DESCRIPTION:
URL:https://fecpc.cat/calendari/futbol-5a-tecnificacio-futbol-7-masculi/
LOCATION:CAR Centre d’Alt Rendiment\, Avda. Alcalde Barnils\, 3-5\, Sant Cugat del Vallès\, 08174\, Espanya
CATEGORIES:futbol
ORGANIZER;CN="FECPC":MAILTO:fecpc@fecpc.cat
END:VEVENT
BEGIN:VEVENT
DTSTART;TZID=UTC:20230429T093000
DTEND;TZID=UTC:20230429T133000
DTSTAMP:20260422T140640
CREATED:20221225T103118Z
LAST-MODIFIED:20230315T133749Z
UID:526-1682760600-1682775000@fecpc.cat
SUMMARY:Futbol - 4ª Jornada Lligueta Catalana de Promoció
DESCRIPTION:Horari: \n9’30h Escalfament\n10’00h 1r partit: CF Vilanova del Vallès PC – Associació Esportiva Badalonès\n11’00h 2n partit: Esplugues Futboleros – Fent Esport\n12’00h Partit amistós. (A concretar)
URL:https://fecpc.cat/calendari/futbol-5a-jornada-lliga-catalana-absoluta/
LOCATION:Pavelló Blume\, C/ Sant Mateu\, s/n\, Esplugues de Llobregat\, Barcelona\, 08950\, Espanya
CATEGORIES:futbol
ORGANIZER;CN="FECPC":MAILTO:fecpc@fecpc.cat
END:VEVENT
BEGIN:VEVENT
DTSTART;VALUE=DATE:20230429
DTEND;VALUE=DATE:20230501
DTSTAMP:20260422T140640
CREATED:20221225T102932Z
LAST-MODIFIED:20230414T115131Z
UID:523-1682726400-1682899199@fecpc.cat
SUMMARY:Boccia - Campionat Espanya de Joves
DESCRIPTION:
URL:https://fecpc.cat/calendari/boccia-campionat-espanya-de-joves/
LOCATION:Pavelló Municipal de La Ràpita\, Carrer Doctor Torné\, s/n\, La Ràpita\, Tarragona\, 43540\, Espanya
CATEGORIES:boccia
ORGANIZER;CN="FECPC":MAILTO:fecpc@fecpc.cat
END:VEVENT
BEGIN:VEVENT
DTSTART;VALUE=DATE:20230423
DTEND;VALUE=DATE:20230502
DTSTAMP:20260422T140640
CREATED:20221225T102426Z
LAST-MODIFIED:20230427T073533Z
UID:519-1682208000-1682985599@fecpc.cat
SUMMARY:Boccia - World Cup
DESCRIPTION:Pots seguir-ho en directe: http://tvgo.ca/defisportif/
URL:https://fecpc.cat/calendari/boccia-world-cup/
LOCATION:Montreal\, Montreal\, Canadà
CATEGORIES:boccia
END:VEVENT
BEGIN:VEVENT
DTSTART;TZID=UTC:20230422T080000
DTEND;TZID=UTC:20230422T120000
DTSTAMP:20260422T140640
CREATED:20230331T115436Z
LAST-MODIFIED:20230411T165255Z
UID:1105-1682150400-1682164800@fecpc.cat
SUMMARY:Natació - 3ª Jornada de la lliga Catalana
DESCRIPTION:HORARI: \n8h – Escalfament \n9h – Inici de la competició
URL:https://fecpc.cat/calendari/natacio-3a-jornada/
LOCATION:CN Terrassa\, Av. de l'Abat Marcet\, s/n\, 08225 Terrassa\, Barcelona\, Terrassa\, 08225\, Espanya
CATEGORIES:natació
END:VEVENT
BEGIN:VEVENT
DTSTART;VALUE=DATE:20230422
DTEND;VALUE=DATE:20230424
DTSTAMP:20260422T140640
CREATED:20221225T102044Z
LAST-MODIFIED:20230328T160616Z
UID:517-1682121600-1682294399@fecpc.cat
SUMMARY:Futbol - 4ª Jornada i Playoff Lliga Promeses
DESCRIPTION:
URL:https://fecpc.cat/calendari/futbol-4a-jornada-i-playoff-copa-promeses/
LOCATION:Navalmoral de la Mata\, 10300 Navalmoral de la Mata\, Cáceres\, Navalmoral de la Mata\, Cáceres\, 10300\, Espanya
CATEGORIES:futbol
END:VEVENT
BEGIN:VEVENT
DTSTART;VALUE=DATE:20230422
DTEND;VALUE=DATE:20230424
DTSTAMP:20260422T140640
CREATED:20221225T101905Z
LAST-MODIFIED:20221225T101906Z
UID:514-1682121600-1682294399@fecpc.cat
SUMMARY:Futbol - 4ª Jornada i Playoff Lliga Nacional
DESCRIPTION:
URL:https://fecpc.cat/calendari/futbol-4a-jornada-i-playoff-lliga-nacional/
LOCATION:Navalmoral de la Mata\, 10300 Navalmoral de la Mata\, Cáceres\, Navalmoral de la Mata\, Cáceres\, 10300\, Espanya
CATEGORIES:futbol
END:VEVENT
BEGIN:VEVENT
DTSTART;TZID=UTC:20230416T100000
DTEND;TZID=UTC:20230416T143000
DTSTAMP:20260422T140640
CREATED:20221225T101452Z
LAST-MODIFIED:20230126T085554Z
UID:511-1681639200-1681655400@fecpc.cat
SUMMARY:Slalom - 4ª Jornada Puntuable i Campionat de Catalunya per Equips
DESCRIPTION:
URL:https://fecpc.cat/calendari/slalom-4a-jornada-puntuable/
LOCATION:Pavello de la Gamba\, 08720 Vilafranca del Penedès\, Barcelona\, Vilafranca del Penedès\, Barcelona\, 08720\, Espanya
CATEGORIES:slalom
END:VEVENT
BEGIN:VEVENT
DTSTART;TZID=UTC:20230416T100000
DTEND;TZID=UTC:20230416T120000
DTSTAMP:20260422T140640
CREATED:20230414T114001Z
LAST-MODIFIED:20230414T114001Z
UID:1113-1681639200-1681646400@fecpc.cat
SUMMARY:Futbol - 4ª Tecnificació Futbol Femení
DESCRIPTION:
URL:https://fecpc.cat/calendari/futbol-4a-tecnificacio-futbol-femeni/
LOCATION:CAR Centre d’Alt Rendiment\, Avda. Alcalde Barnils\, 3-5\, Sant Cugat del Vallès\, 08174\, Espanya
CATEGORIES:futbol
END:VEVENT
BEGIN:VEVENT
DTSTART;TZID=UTC:20230415T120000
DTEND;TZID=UTC:20230415T140000
DTSTAMP:20260422T140640
CREATED:20230315T134932Z
LAST-MODIFIED:20230413T102112Z
UID:1077-1681560000-1681567200@fecpc.cat
SUMMARY:Futbol – 5ª Jornada Lliga Catalana Absoluta
DESCRIPTION:Horari: \n12’00h     1r partit:   Associació Esportiva Badalonès A – Disport FC Smart Group Joie Red \n13’00h     2n partit: Disport FC Smart Group Joie Blue – Associació Esportiva Badalonès 1 \n 
URL:https://fecpc.cat/calendari/futbol-5a-jornada-lliga-catalana-absoluta-2/
LOCATION:Poliesportiu Marcel·lí Moragas (Pista interior)\, Joan I\, 5\, Gavà\, Barcelona\, 08850\, Espanya
CATEGORIES:futbol
ORGANIZER;CN="FECPC":MAILTO:fecpc@fecpc.cat
END:VEVENT
BEGIN:VEVENT
DTSTART;TZID=UTC:20230415T100000
DTEND;TZID=UTC:20230415T143000
DTSTAMP:20260422T140640
CREATED:20230328T155337Z
LAST-MODIFIED:20230328T155337Z
UID:1094-1681552800-1681569000@fecpc.cat
SUMMARY:Boccia – 7ª Jornada Lliga Catalana
DESCRIPTION:
URL:https://fecpc.cat/calendari/boccia-7a-jornada-lliga-catalana/
LOCATION:CSE Can Vidalet\, Carrer dels Cedres\, 82\, Esplugues de Llobregat\, Barcelona\, 08950\, Espanya
CATEGORIES:boccia
ORGANIZER;CN="FECPC":MAILTO:fecpc@fecpc.cat
END:VEVENT
END:VCALENDAR