BEGIN:VCALENDAR
VERSION:2.0
PRODID:-//FECPC - Federació Esportiva Catalana de Persones amb Lesió Cerebral - ECPv6.15.20//NONSGML v1.0//EN
CALSCALE:GREGORIAN
METHOD:PUBLISH
X-ORIGINAL-URL:https://fecpc.cat
X-WR-CALDESC:Esdeveniments per FECPC - Federació Esportiva Catalana de Persones amb Lesió Cerebral
REFRESH-INTERVAL;VALUE=DURATION:PT1H
X-Robots-Tag:noindex
X-PUBLISHED-TTL:PT1H
BEGIN:VTIMEZONE
TZID:UTC
BEGIN:STANDARD
TZOFFSETFROM:+0000
TZOFFSETTO:+0000
TZNAME:UTC
DTSTART:20220101T000000
END:STANDARD
END:VTIMEZONE
BEGIN:VEVENT
DTSTART;TZID=UTC:20230122T110000
DTEND;TZID=UTC:20230122T140000
DTSTAMP:20260422T204501
CREATED:20221224T160438Z
LAST-MODIFIED:20230118T110943Z
UID:460-1674385200-1674396000@fecpc.cat
SUMMARY:Natació - 1ª Concentració de Tecnificació i Promonat
DESCRIPTION:Consulta la Convocatòria: \nNAT- 1a TECNIFICACIÓ i PROMONAT-22gener
URL:https://fecpc.cat/calendari/natacio-1a-concentracio-de-tecnificacio/
LOCATION:CAR Centre d’Alt Rendiment\, Avda. Alcalde Barnils\, 3-5\, Sant Cugat del Vallès\, 08174\, Espanya
CATEGORIES:natació
ORGANIZER;CN="FECPC":MAILTO:fecpc@fecpc.cat
END:VEVENT
BEGIN:VEVENT
DTSTART;VALUE=DATE:20230122
DTEND;VALUE=DATE:20230128
DTSTAMP:20260422T204501
CREATED:20230118T095113Z
LAST-MODIFIED:20230118T095113Z
UID:941-1674345600-1674863999@fecpc.cat
SUMMARY:Esquí- Campus Inclusiu Fund. Jesús Serra
DESCRIPTION:CONVOCATORIA CAMPUS INCLUSIVO FUND ACIÓN JESÚS SERRA – ENERO 2023
URL:https://fecpc.cat/calendari/esqui-campus-inclusiu-fund-jesus-serra/
LOCATION:Baqueira Beret\, Afores\, s/n\, Baqueira\, Lleida\, 25598
CATEGORIES:esquí
END:VEVENT
BEGIN:VEVENT
DTSTART;TZID=UTC:20230121T103000
DTEND;TZID=UTC:20230121T170000
DTSTAMP:20260422T204501
CREATED:20230109T161715Z
LAST-MODIFIED:20230109T170050Z
UID:904-1674297000-1674320400@fecpc.cat
SUMMARY:Natació - 2ª Jornada de la Lliga Catalana
DESCRIPTION:– Data: dissabte 21/01/23\n– Lloc: Complex Esportiu La Vila\, Martorell\n– Horari escalfament: 9:30h\n– Inici competició: 10:30h\n– Data Límit inscripció: 16/01/23 per plataforma Àgora: vés a https://miagora.es/
URL:https://fecpc.cat/calendari/natacio-2a-jornada-de-la-lliga-catalana/
LOCATION:Complex Esportiu La Vila\, Carrer dels Mestres Gomila-Reniu\, 1\, Martorell\, Barcelona\, 08760
CATEGORIES:natació
ORGANIZER;CN="FECPC":MAILTO:fecpc@fecpc.cat
END:VEVENT
BEGIN:VEVENT
DTSTART;TZID=UTC:20230121T100000
DTEND;TZID=UTC:20230121T120000
DTSTAMP:20260422T204501
CREATED:20230118T093729Z
LAST-MODIFIED:20230118T093729Z
UID:936-1674295200-1674302400@fecpc.cat
SUMMARY:Futbol - 3ª Tecnificació Futbol 7 Femení
DESCRIPTION:
URL:https://fecpc.cat/calendari/futbol-3a-tecnificacio-futbol-7-femeni/
LOCATION:CAR Centre d’Alt Rendiment\, Avda. Alcalde Barnils\, 3-5\, Sant Cugat del Vallès\, 08174\, Espanya
CATEGORIES:futbol
ORGANIZER;CN="FECPC":MAILTO:fecpc@fecpc.cat
END:VEVENT
BEGIN:VEVENT
DTSTART;TZID=UTC:20230121T093000
DTEND;TZID=UTC:20230121T173000
DTSTAMP:20260422T204501
CREATED:20221222T094205Z
LAST-MODIFIED:20221222T094206Z
UID:383-1674293400-1674322200@fecpc.cat
SUMMARY:Boccia - 2ª Tecnificació Joves
DESCRIPTION:2ª JORNADA DE TECNIFICACIÓ DE BOCCIA DE JOVES 2022-23 \nLLOC: Centre d’Alt Rendiment – CAR \nAvda. Alcalde Barnils\, 3-5 – Sant Cugat del Vallès \nHORARI: de 9’30 a 13’30h i de 15 a 17’30h \nPodeu consultar el llistat de convocats\, a l’apartat de competicions de boccia de la web. 
URL:https://fecpc.cat/calendari/boccia-2a-tecnificacio-joves/
LOCATION:CAR Centre d’Alt Rendiment\, Avda. Alcalde Barnils\, 3-5\, Sant Cugat del Vallès\, 08174\, Espanya
CATEGORIES:boccia
ORGANIZER;CN="FECPC":MAILTO:fecpc@fecpc.cat
END:VEVENT
BEGIN:VEVENT
DTSTART;VALUE=DATE:20230121
DTEND;VALUE=DATE:20230123
DTSTAMP:20260422T204501
CREATED:20230118T094620Z
LAST-MODIFIED:20230118T094620Z
UID:938-1674259200-1674431999@fecpc.cat
SUMMARY:Esquí - Copa d'Espanya Inclusiva Fund. Jesús Serra
DESCRIPTION:
URL:https://fecpc.cat/calendari/esqui-copa-despanya-inclusiva-fund-jesus-serra/
LOCATION:Baqueira Beret\, Afores\, s/n\, Baqueira\, Lleida\, 25598
CATEGORIES:esquí
END:VEVENT
BEGIN:VEVENT
DTSTART;VALUE=DATE:20230121
DTEND;VALUE=DATE:20230123
DTSTAMP:20260422T204501
CREATED:20221224T160132Z
LAST-MODIFIED:20230118T110457Z
UID:455-1674259200-1674431999@fecpc.cat
SUMMARY:Futbol - 1ª Jornada Lliga Nacional
DESCRIPTION:
URL:https://fecpc.cat/calendari/futbol-1a-jornada-lliga-nacional/
LOCATION:Camp Municipal Can Vinader\, Rambla de Blas Infante\, s/n\, Castelldefels\, 08860\, Espanya
CATEGORIES:futbol
END:VEVENT
BEGIN:VEVENT
DTSTART;TZID=UTC:20230115T093000
DTEND;TZID=UTC:20230115T140000
DTSTAMP:20260422T204501
CREATED:20221222T093433Z
LAST-MODIFIED:20230109T165130Z
UID:379-1673775000-1673791200@fecpc.cat
SUMMARY:Boccia - 3ª jornada lliga
DESCRIPTION:3ª Jornada de la Lliga Catalana de Boccia 2022-23 \nLLOC: PAVELLÓ MUNICIPAL EUSKADI \nC/ Euskadi\, s/n – MATARÓ \nhttps://goo.gl/maps/FtUDFXA5M7T2 \nHorari: 9’30 a 14h \n \nConsulta el fitxer: 3ª JORNADA BOCCIA – MATARÓ \n 
URL:https://fecpc.cat/calendari/boccia-3a-jornada-lliga/
LOCATION:PAVELLÓ MUNICIPAL EUSKADI\, C/ Euskadi\, s/n\, Mataró\, 08303\, Espanya
CATEGORIES:boccia
ORGANIZER;CN="FECPC":MAILTO:fecpc@fecpc.cat
END:VEVENT
BEGIN:VEVENT
DTSTART;TZID=UTC:20230114T093000
DTEND;TZID=UTC:20230114T130000
DTSTAMP:20260422T204501
CREATED:20221222T225103Z
LAST-MODIFIED:20221222T225440Z
UID:447-1673688600-1673701200@fecpc.cat
SUMMARY:Futbol - 2ª Jornada Lliga Catalana Absoluta
DESCRIPTION:2a jornada – Dissabte\, 14 de gener 2023 \n\n\n\nPavelló Blume – Instal·lacions del Consell Català de l’Esport (C/ Sant Mateu\, s/n – Esplugues de Llobregat) \n\n\n\n(Organitza AE Badalonès) \n\n\n\n9’30h Escalfament10’00h 1r partit: Associació Esportiva Badalonès 1 – Disport FC Smart Group Joie Blue 11’00h 2n partit: Disport FC Smart Group Joie Red – Associació Esportiva Badalonès A \n\n\n\n12’00h Partit amistós (a concretar
URL:https://fecpc.cat/calendari/futbol-2a-jornada-lliga-catalana-absoluta/
LOCATION:Pavelló Blume\, C/ Sant Mateu\, s/n\, Esplugues de Llobregat\, Barcelona\, 08950\, Espanya
CATEGORIES:futbol
END:VEVENT
END:VCALENDAR